BEGIN:VCALENDAR
VERSION:2.0
PRODID:-//Paragon Wealth Management - ECPv6.15.20//NONSGML v1.0//EN
CALSCALE:GREGORIAN
METHOD:PUBLISH
X-WR-CALNAME:Paragon Wealth Management
X-ORIGINAL-URL:https://paragon-wealth.com
X-WR-CALDESC:Events for Paragon Wealth Management
REFRESH-INTERVAL;VALUE=DURATION:PT1H
X-Robots-Tag:noindex
X-PUBLISHED-TTL:PT1H
BEGIN:VTIMEZONE
TZID:America/New_York
BEGIN:DAYLIGHT
TZOFFSETFROM:-0500
TZOFFSETTO:-0400
TZNAME:EDT
DTSTART:20240310T070000
END:DAYLIGHT
BEGIN:STANDARD
TZOFFSETFROM:-0400
TZOFFSETTO:-0500
TZNAME:EST
DTSTART:20241103T060000
END:STANDARD
BEGIN:DAYLIGHT
TZOFFSETFROM:-0500
TZOFFSETTO:-0400
TZNAME:EDT
DTSTART:20250309T070000
END:DAYLIGHT
BEGIN:STANDARD
TZOFFSETFROM:-0400
TZOFFSETTO:-0500
TZNAME:EST
DTSTART:20251102T060000
END:STANDARD
BEGIN:DAYLIGHT
TZOFFSETFROM:-0500
TZOFFSETTO:-0400
TZNAME:EDT
DTSTART:20260308T070000
END:DAYLIGHT
BEGIN:STANDARD
TZOFFSETFROM:-0400
TZOFFSETTO:-0500
TZNAME:EST
DTSTART:20261101T060000
END:STANDARD
END:VTIMEZONE
BEGIN:VEVENT
DTSTART;TZID=America/New_York:20250731T130000
DTEND;TZID=America/New_York:20250731T140000
DTSTAMP:20260423T230830
CREATED:20250625T143944Z
LAST-MODIFIED:20250812T174749Z
UID:7628-1753966800-1753970400@paragon-wealth.com
SUMMARY:"Retain Your Brain" Live Zoom featuring Thomas Barrett
DESCRIPTION:It’s understandable that we’re desperate for a quick fix to one of the greatest collective health fears we have: Losing cognitive function. \nSo\, can we prevent\, or at least slow\, the aging of our brains? \nMore and more research reveals a powerful message: that we—not our genes—can have control over our cognitive health today and the destiny of our brains. \nWhy Attend?\nJoin us to learn: \n• Why your brain may not be the same age as you \n• How brain health can affect your lifestyle and finances \n• Practical tips to age-proof your brain \nJoin Zoom Meeting \nhttps://us06web.zoom.us/j/84769949887?pwd=IwKcbbb9IdbSMgDBdGYEm5qvxCrw17.1 \nMeeting ID: 847 6994 9887 \nPasscode: 940961 \nThomas Barrett with Hartford Funds is not affiliated with  Paragon Wealth Management or LPL Financial.  
URL:https://paragon-wealth.com/event/retain-your-brain-live-zoom-featuring-thomas-barrett/
LOCATION:Live Zoom
CATEGORIES:Finances on Tap
ATTACH;FMTTYPE=image/gif:https://paragon-wealth.com/wp-content/uploads/mind.gif
END:VEVENT
END:VCALENDAR