BEGIN:VCALENDAR
VERSION:2.0
PRODID:-//Paragon Wealth Management - ECPv6.15.20//NONSGML v1.0//EN
CALSCALE:GREGORIAN
METHOD:PUBLISH
X-ORIGINAL-URL:https://paragon-wealth.com
X-WR-CALDESC:Events for Paragon Wealth Management
REFRESH-INTERVAL;VALUE=DURATION:PT1H
X-Robots-Tag:noindex
X-PUBLISHED-TTL:PT1H
BEGIN:VTIMEZONE
TZID:UTC
BEGIN:STANDARD
TZOFFSETFROM:+0000
TZOFFSETTO:+0000
TZNAME:UTC
DTSTART:20240101T000000
END:STANDARD
END:VTIMEZONE
BEGIN:VEVENT
DTSTART;TZID=UTC:20250122T183000
DTEND;TZID=UTC:20250122T200000
DTSTAMP:20260424T100210
CREATED:20241228T011110Z
LAST-MODIFIED:20250402T191450Z
UID:7200-1737570600-1737576000@paragon-wealth.com
SUMMARY:2025 Market Outlook: Fireside Chat with Eric Parnell\, CFA
DESCRIPTION:
URL:https://paragon-wealth.com/event/2025-market-outlook-fireside-chat-with-eric-parnell-cfa/
LOCATION:Pj Whelihan’s Pub\, 4379 W. Swamp Rd\, Doylestown\, PA\, 18901\, United States
CATEGORIES:Finances on Tap
ATTACH;FMTTYPE=image/png:https://paragon-wealth.com/wp-content/uploads/Finances-on-Tap-1.png
END:VEVENT
END:VCALENDAR